BEGIN:VCALENDAR
VERSION:2.0
PRODID:-//wp-events-plugin.com//7.2.2.1//EN
TZID:Europe/Berlin
X-WR-TIMEZONE:Europe/Berlin
BEGIN:VEVENT
UID:5@kettlaro.de
DTSTART;TZID=Europe/Berlin:20260427T183000
DTEND;TZID=Europe/Berlin:20260427T200000
DTSTAMP:20251209T211012Z
URL:https://kettlaro.de/events/frankfurt-liest-ein-buch/
SUMMARY:Frankfurt liest ein Buch
DESCRIPTION:"Gott und die Welt. Aufzeichnungen aus der Wiesenau" von Marie 
 Luise Kaschnitz – mit diesem Buch stellt das Lese-Festival eine Schrifts
 tellerin und Dichterin in den Mittelpunkt\, deren Texte zwar überwiegend 
 in der Mitte des 20. Jahrhunderts entstanden sind\, die jedoch an Aktualit
 ät nichts verloren haben. Freuen Sie sich auf einen Abend mit Gabi Fachin
 ger (Bibliothekarin und Literaturpädagogin).\n\nEintritt frei!\n\nAnmeldu
 ng:\nBitte melden Sie sich für die jeweiligen Veranstaltungen per E-Mail 
 an: veranstaltungen@kettlaro.de
LOCATION:Ketteler-La Roche-Schule\, Hessenglasweg 9\, 61440 Oberursel\, Deu
 tschland
X-APPLE-STRUCTURED-LOCATION;VALUE=URI;X-ADDRESS=Hessenglasweg 9\, 61440 Obe
 rursel\, Deutschland;X-APPLE-RADIUS=100;X-TITLE=Ketteler-La Roche-Schule:g
 eo:0,0
END:VEVENT
BEGIN:VTIMEZONE
TZID:Europe/Berlin
X-LIC-LOCATION:Europe/Berlin
BEGIN:DAYLIGHT
DTSTART:20260329T030000
TZOFFSETFROM:+0100
TZOFFSETTO:+0200
TZNAME:CEST
END:DAYLIGHT
END:VTIMEZONE
END:VCALENDAR