BEGIN:VCALENDAR
VERSION:2.0
PRODID:-//wp-events-plugin.com//7.2.2.1//EN
TZID:Europe/Berlin
X-WR-TIMEZONE:Europe/Berlin
BEGIN:VEVENT
UID:9@kettlaro.de
DTSTART;TZID=Europe/Berlin:20261130T090000
DTEND;TZID=Europe/Berlin:20261130T161500
DTSTAMP:20260323T144114Z
URL:https://kettlaro.de/events/bildungsort-esstisch-alltagsintegrierte-spr
 achbildung/
SUMMARY:„Bildungsort Esstisch - alltagsintegrierte Sprachbildung“
DESCRIPTION:Der Fachtag betrachten die Esssituationen unter ernährungsphys
 iologischen/-psychologischen und\npädagogischen Aspekten. Er bietet aktue
 llen fachlichen Input und Praxisworkshops\, Inspiration\, Impulse\nund die
  Möglichkeit\, sich mit anderen Aktiven auszutauschen und zu vernetzen. I
 n diesem Jahr widmet sich der Fachtag dem Thema „Alltagsintegrierte Spra
 che am Bildungsort Esstisch“. Zwei- bis dreimal am Tag dient der Esstisc
 h als Ort des Zusammenkommens und des Austausches\, an dem über Neugier u
 nd Genuss die Lebensmittel zur\nKommunikation dienen. Anmeldung über hier
 :\n\nFachtag: „Bildungsort Esstisch!” und alltagsintegrierte Sprachbil
 dung | Verbraucherzentrale Hessen\n\nEintritt frei!\n\nAnmeldung: \nFür 
 alle Veranstaltungen melden Sie sich über folgende Mailadresse an: verans
 taltungen@kettlaro.de
CATEGORIES:Fachtag mit Workshops für Fachpublikum
LOCATION:Ketteler-La Roche-Schule\, Hessenglasweg 9\, 61440 Oberursel\, Deu
 tschland
X-APPLE-STRUCTURED-LOCATION;VALUE=URI;X-ADDRESS=Hessenglasweg 9\, 61440 Obe
 rursel\, Deutschland;X-APPLE-RADIUS=100;X-TITLE=Ketteler-La Roche-Schule:g
 eo:0,0
END:VEVENT
BEGIN:VTIMEZONE
TZID:Europe/Berlin
X-LIC-LOCATION:Europe/Berlin
BEGIN:STANDARD
DTSTART:20261025T020000
TZOFFSETFROM:+0200
TZOFFSETTO:+0100
TZNAME:CET
END:STANDARD
END:VTIMEZONE
END:VCALENDAR