BEGIN:VCALENDAR
VERSION:2.0
PRODID:-//wp-events-plugin.com//7.2.2.1//EN
TZID:Europe/Berlin
X-WR-TIMEZONE:Europe/Berlin
BEGIN:VEVENT
UID:4@kettlaro.de
DTSTART;TZID=Europe/Berlin:20260417T100000
DTEND;TZID=Europe/Berlin:20260417T150000
DTSTAMP:20260323T142005Z
URL:https://kettlaro.de/events/anziehsachen-schauspiel-mit-gesang-und-weni
 g-worten-produktion-des-theaterhaus-frankfurt/
SUMMARY:Anziehsachen - Schauspiel mit Gesang und wenig  Worten (Produktion 
 des Theaterhaus Frankfurt)
DESCRIPTION:Ein Mann und eine Frau. Ein Plattenspieler. Eine große Tüte\,
  aus der wunderbare Stoffe quellen. Eine Wäscheleine. Mehr braucht es nic
 ht für dieses Stück\, das die Allerkleinsten sanft mit der Kunstform The
 ater bekannt macht. Dabei passiert allerlei Spannendes. Das Theaterstück 
 richtet sich an Auszubildende\, Kindertageseinrichtungen und Familien.\n\n
 Mehr Informationen finden Sie hier: Anziehsachen_Gastspielinfo\n\nEintritt
  frei!\n\nAnmeldung:\nBitte melden Sie sich für die jeweiligen Veranstalt
 ungen per E-Mail an: veranstaltungen@kettlaro.de
CATEGORIES:Theatervorführung für Kinder (ab 2 Jahren)
LOCATION:Ketteler-La Roche-Schule\, Hessenglasweg 9\, 61440 Oberursel\, Deu
 tschland
X-APPLE-STRUCTURED-LOCATION;VALUE=URI;X-ADDRESS=Hessenglasweg 9\, 61440 Obe
 rursel\, Deutschland;X-APPLE-RADIUS=100;X-TITLE=Ketteler-La Roche-Schule:g
 eo:0,0
END:VEVENT
BEGIN:VTIMEZONE
TZID:Europe/Berlin
X-LIC-LOCATION:Europe/Berlin
BEGIN:DAYLIGHT
DTSTART:20260329T030000
TZOFFSETFROM:+0100
TZOFFSETTO:+0200
TZNAME:CEST
END:DAYLIGHT
END:VTIMEZONE
END:VCALENDAR